BEGIN:VCALENDAR
VERSION:2.0
PRODID:-//Garfield Housing Authority - ECPv6.15.20//NONSGML v1.0//EN
CALSCALE:GREGORIAN
METHOD:PUBLISH
X-ORIGINAL-URL:https://garfieldhousing.org
X-WR-CALDESC:Events for Garfield Housing Authority
REFRESH-INTERVAL;VALUE=DURATION:PT1H
X-Robots-Tag:noindex
X-PUBLISHED-TTL:PT1H
BEGIN:VTIMEZONE
TZID:America/New_York
BEGIN:DAYLIGHT
TZOFFSETFROM:-0500
TZOFFSETTO:-0400
TZNAME:EDT
DTSTART:20250309T070000
END:DAYLIGHT
BEGIN:STANDARD
TZOFFSETFROM:-0400
TZOFFSETTO:-0500
TZNAME:EST
DTSTART:20251102T060000
END:STANDARD
BEGIN:DAYLIGHT
TZOFFSETFROM:-0500
TZOFFSETTO:-0400
TZNAME:EDT
DTSTART:20260308T070000
END:DAYLIGHT
BEGIN:STANDARD
TZOFFSETFROM:-0400
TZOFFSETTO:-0500
TZNAME:EST
DTSTART:20261101T060000
END:STANDARD
BEGIN:DAYLIGHT
TZOFFSETFROM:-0500
TZOFFSETTO:-0400
TZNAME:EDT
DTSTART:20270314T070000
END:DAYLIGHT
BEGIN:STANDARD
TZOFFSETFROM:-0400
TZOFFSETTO:-0500
TZNAME:EST
DTSTART:20271107T060000
END:STANDARD
END:VTIMEZONE
BEGIN:VEVENT
DTSTART;VALUE=DATE:20260101
DTEND;VALUE=DATE:20260102
DTSTAMP:20260425T121421
CREATED:20250319T183724Z
LAST-MODIFIED:20250319T183724Z
UID:3014-1767225600-1767311999@garfieldhousing.org
SUMMARY:New Year's Day
DESCRIPTION:
URL:https://garfieldhousing.org/event/new-years-day/
CATEGORIES:Holidays
END:VEVENT
BEGIN:VEVENT
DTSTART;VALUE=DATE:20260119
DTEND;VALUE=DATE:20260120
DTSTAMP:20260425T121421
CREATED:20250319T185148Z
LAST-MODIFIED:20250319T185148Z
UID:3020-1768780800-1768867199@garfieldhousing.org
SUMMARY:Martin Luther King Jr. Day
DESCRIPTION:
URL:https://garfieldhousing.org/event/martin-luther-king-jr-day/
CATEGORIES:Holidays
END:VEVENT
BEGIN:VEVENT
DTSTART;TZID=America/New_York:20260126T181500
DTEND;TZID=America/New_York:20260126T190000
DTSTAMP:20260425T121421
CREATED:20250319T184535Z
LAST-MODIFIED:20250319T184535Z
UID:3018-1769451300-1769454000@garfieldhousing.org
SUMMARY:Board Meeting
DESCRIPTION:
URL:https://garfieldhousing.org/event/board-meeting-12/
LOCATION:Community Room\, 71 Daniel P. Court\, Garfield\, NJ\, 07026
CATEGORIES:Board Meetings
END:VEVENT
END:VCALENDAR